Workbook
Name _____________________MI31: #REF!
Name _____________________MI31: #REF!
Name _____________________mi32: #REF!
Name _____________________mi32: #REF!
Name ____________________MI31: #REF!
Name ____________________MI31: #REF!
Name ____________________mi32: #REF!
Name ___________________MI31: #REF!
Name ___________________mi32: #REF!
Name __________________MI31: #REF!
Name __________________mi32: #REF!
Name _________________MI31: #REF!
Name _________________mi32: #REF!
Name ________________MI31: #REF!
Name ________________mi32: #REF!
Name _______________MI31: #REF!
Name _______________mi32: #REF!
Name ______________MI31: #REF!
Name ______________mi32: #REF!
Name _____________MI31: #REF!
Name _____________mi32: #REF!
Name ____________MI31: #REF!
Name ____________mi32: #REF!
Name ___________MI31: #REF!
Name ___________mi32: #REF!
Name __________MI31: #REF!
Name __________mi32: #REF!
Name _________MI31: #REF!
Name _________mi32: #REF!
Name ________MI31: #REF!
Name ________mi32: #REF!
Name _______MI31: #REF!
Name _______mi32: #REF!
Name ______MI31: #REF!
Name ______mi32: #REF!
Name _____MI31: #REF!
Name _____mi32: #REF!
Name _____pg2: #REF!
Name ____MI31: #REF!
Name ____mi32: #REF!
Name ____pg2: #REF!
Name ___MI31: #REF!
Name ___mi32: #REF!
Name ___pg2: #REF!
Name __MI31: #REF!
Name __mi32: #REF!
Name __pg2: #REF!
Name _MI31: #REF!
Name _MI31: #REF!
Name _mi32: #REF!
Name _mi32: #REF!
Name _pg2: #REF!
Name _pg2: #REF!
Name A: #REF!
Name aaaaaaa: #REF!
Name admin: '[1]Notes 2'!#REF!
Name adsada: #REF!
Name adsada: #REF!
Name AOErev: #REF!
Name AOErev: #REF!

Sheet Package Breakdown - Casas 10.21
A1: Project Name | C1: Tinio
A2: Project Location | C2: Tinio | D2: =12/120 -> 0.1
A3: Project Data
A4: Scheme Number
A6: PACKAGE BREAKDOWN - Public Selling Price
B7: Type | C7: 1BR, Fully Fitted | D7: 1BR, Fully Fitted | E7: 1BR, Fully Fitted | F7: 1BR, Fully Fitted | G7: 1BR, Fully Fitted | H7: 1BR, Fully Fitted | I7: 1BR, Fully Fitted | J7: 1BR, Fully Fitted | K7: 1BR, Fully Fitted | L7: 1BR, Fully Fitted | M7: 1BR, Fully Fitted | N7: Commercial Unit 1 | O7: Commercial Unit 2 | P7: Commercial Unit 3 | Q7: Commercial Unit 4 | R7: Commercial Unit 5 | S7: Commercial Unit 6 | T7: Commercial Unit 7 | U7: Commercial Unit 8 | V7: Parking Slot - Regular | W7: Parking Slot - Parallel | X7: Parking Slot - Small
C8: Unit A | D8: Unit B | E8: Unit C | F8: Unit D | G8: Unit E | H8: Unit F | I8: Unit G | J8: Unit H | K8: Unit I to K | L8: Unit L | M8: Unit M
A9: 1 | B9: Area | C9: ='[15]Casas Area Tabulation 10.21.21'!U11 -> 98.5 | D9: ='[15]Casas Area Tabulation 10.21.21'!V11 -> 51.02 | E9: ='[15]Casas Area Tabulation 10.21.21'!W11 -> 55.62 | F9: ='[15]Casas Area Tabulation 10.21.21'!X11 -> 60.78 | G9: ='[15]Casas Area Tabulation 10.21.21'!Y11 -> 83.49 | H9: ='[15]Casas Area Tabulation 10.21.21'!AA11 -> 61.03 | I9: ='[15]Casas Area Tabulation 10.21.21'!AB11 -> 94.79 | J9: ='[15]Casas Area Tabulation 10.21.21'!AC11 -> 67.79 | K9: ='[15]Casas Area Tabulation 10.21.21'!AD11 -> 67.72 | L9: ='[15]Casas Area Tabulation 10.21.21'!AE11 -> 86.15 | M9: ='[15]Casas Area Tabulation 10.21.21'!AF11 -> 53.53 | N9: ='[15]Casas Data 10.21.21'!D15 -> 44.44 | O9: ='[15]Casas Data 10.21.21'!D16 -> 44.43 | P9: ='[15]Casas Data 10.21.21'!D17 -> 36.35 | Q9: ='[15]Casas Data 10.21.21'!D18 -> 79.31 | R9: ='[15]Casas Data 10.21.21'!D19 -> 46.32 | S9: ='[15]Casas Data 10.21.21'!D20 -> 50.68 | T9: ='[15]Casas Data 10.21.21'!D21 -> 55.37 | U9: ='[15]Casas Data 10.21.21'!D22 -> 82.04 | V9: 12.5 | W9: 12 | X9: =21.5/2 -> 10.75
A10: 2 | B10: Balcony Area | C10: ='[15]Casas Area Tabulation 10.21.21'!U12 -> 10.46 | D10: ='[15]Casas Area Tabulation 10.21.21'!V12 -> 5.36 | E10: ='[15]Casas Area Tabulation 10.21.21'!W12 -> 5.37 | F10: ='[15]Casas Area Tabulation 10.21.21'!X12 -> 5.15 | G10: ='[15]Casas Area Tabulation 10.21.21'!Y12 -> 12.31 | H10: ='[15]Casas Area Tabulation 10.21.21'!AA12 -> 4.19 | I10: ='[15]Casas Area Tabulation 10.21.21'!AB12 -> 11.26 | J10: ='[15]Casas Area Tabulation 10.21.21'!AC12 -> 4.2 | K10: ='[15]Casas Area Tabulation 10.21.21'!AD12 -> 4.2 | L10: ='[15]Casas Area Tabulation 10.21.21'!AE12 -> 12.66 | M10: ='[15]Casas Area Tabulation 10.21.21'!AF12 -> 4.18
A11: 3 | B11: Total Area | C11: =SUM(C9:C10) -> 108.96 | D11: =D9+D10 -> 56.38 | E11: =E9+E10 -> 60.99 | F11: =F9+F10 -> 65.93 | G11: =G9+G10 -> 95.8 | H11: =H9+H10 -> 65.22 | I11: =I9+I10 -> 106.05 | J11: =J9+J10 -> 71.99 | K11: =K9+K10 -> 71.92 | ... M11: =M9+M10 -> 57.71 | N11: =N9 -> 44.44 | O11: =O9 -> 44.43 | P11: =P9 -> 36.35 | Q11: =Q9 -> 79.31 | R11: =R9 -> 46.32 | S11: =S9 -> 50.68 | T11: =T9 -> 55.37 | U11: =U9 -> 82.04 | V11: 12.5 | W11: =W9 -> 12 | X11: =X9 -> 10.75
A13: 4 | B13: Price per sq. m. | C13: 132000 | D13: 132000 | E13: 132000 | F13: 132000 | G13: 132000 | H13: 132000 | I13: 132000 | J13: 132000 | K13: 132000 | L13: 132000 | M13: 132000 | N13: 160000 | O13: 160000 | P13: 160000 | Q13: 160000 | R13: 160000 | S13: 160000 | T13: 160000 | U13: 160000 | V13: =V14/V11 -> 69600 | W13: 69600 | X13: 69600
A14: 5 | B14: Price of Unit | C14: =C9*C13 -> 13002000 | D14: =D9*D13 -> 6734640 | E14: =E9*E13 -> 7341840 | F14: =F9*F13 -> 8022960 | G14: =G9*G13 -> 11020680 | H14: =H9*H13 -> 8055960 | I14: =I9*I13 -> 12512280 | J14: =J9*J13 -> 8948280 | ... M14: =M9*M13 -> 7065960 | N14: =N13*N11 -> 7110400 | O14: =O13*O11 -> 7108800 | P14: =P13*P11 -> 5816000 | Q14: =Q13*Q11 -> 12689600 | R14: =R13*R11 -> 7411200 | S14: =S13*S11 -> 8108800 | T14: =T13*T11 -> 8859200 | U14: =U13*U11 -> 13126400 | V14: 870000 | W14: =W13*W11 -> 835200 | X14: =X13*X11 -> 748200
A15: 6 | B15: Price per sq. m. (balcony) | C15: 66000 | D15: 66000 | E15: 66000 | F15: 66000 | G15: 66000 | H15: 66000 | I15: 66000 | J15: 66000 | K15: 66000 | L15: 66000 | M15: 66000
A16: 7 | B16: Price of Balcony | C16: =C15*C10 -> 690360 | D16: =D15*D10 -> 353760 | E16: =E15*E10 -> 354420 | F16: =F15*F10 -> 339900 | G16: =G15*G10 -> 812460 | H16: =H15*H10 -> 276540 | I16: =I15*I10 -> 743160 | J16: =J15*J10 -> 277200 | ... M16: =M15*M10 -> 275880
B17: Total Selling Price | C17: =C14+C16 -> 13692360 | D17: =D14+D16 -> 7088400 | E17: =E14+E16 -> 7696260 | F17: =F14+F16 -> 8362860 | G17: =G14+G16 -> 11833140 | H17: =H14+H16 -> 8332500 | I17: =I14+I16 -> 13255440 | J17: =J14+J16 -> 9225480 | ... M17: =M14+M16 -> 7341840 | N17: =N14 -> 7110400 | O17: =O14 -> 7108800 | P17: =P14 -> 5816000 | Q17: =Q14 -> 12689600 | R17: =R14 -> 7411200 | S17: =S14 -> 8108800 | T17: =T14 -> 8859200 | U17: =U14 -> 13126400 | ... X17: =X14 -> 748200
A19: 8 | B19: VAT (12%) | C19: =C17*12% -> 1643083.2 | D19: =D17*12% -> 850608 | E19: =E17*12% -> 923551.2 | F19: =F17*12% -> 1003543.2 | G19: =G17*12% -> 1419976.8 | H19: =H17*12% -> 999900 | I19: =I17*12% -> 1590652.8 | J19: =J17*12% -> 1107057.6 | ... X19: =X17*12% -> 89784
A20: 9 | B20: Legal & Misc. Fees (6%) | C20: =C17*6% -> 821541.6 | D20: =D17*6% -> 425304 | E20: =E17*6% -> 461775.6 | F20: =F17*6% -> 501771.6 | G20: =G17*6% -> 709988.4 | H20: =H17*6% -> 499950 | I20: =I17*6% -> 795326.4 | J20: =J17*6% -> 553528.8 | ... X20: =X17*6% -> 44892
A21: 10 | B21: Bank Fees (2.5%) | C21: =C17*2.5% -> 342309 | D21: =D17*2.5% -> 177210 | E21: =E17*2.5% -> 192406.5 | F21: =F17*2.5% -> 209071.5 | G21: =G17*2.5% -> 295828.5 | H21: =H17*2.5% -> 208312.5 | I21: =I17*2.5% -> 331386 | J21: =J17*2.5% -> 230637 | ... X21: =X17*2.5% -> 18705
B23: Total Contract Price | C23: =C17+C19+C20+C21 -> 16499294 | D23: =D17+D19+D20+D21 -> 8541522 | E23: =E17+E19+E20+E21 -> 9273993.3 | F23: =F17+F19+F20+F21 -> 10077246 | G23: =G17+G19+G20+G21 -> 14258934 | H23: =H17+H19+H20+H21 -> 10040662 | I23: =I17+I19+I20+I21 -> 15972805 | J23: =J17+J19+J20+J21 -> 11116703 | ... X23: =X17+X19+X20+X21 -> 901581
A24: 11 | B24: Price per sq. m. | C24: =C23/C11 -> 151425.24 | D24: =D23/D11 -> 151499.15 | E24: =E23/E11 -> 152057.6 | F24: =F23/F11 -> 152847.66 | G24: =G23/G11 -> 148840.64 | H24: =H23/H11 -> 153950.67 | I24: =I23/I11 -> 150615.8 | J24: =J23/J11 -> 154420.11 | ... X24: =X23/X11 -> 83868
A25: 12 | B25: Equity | C25: 0.25 | D25: 0.25 | E25: 0.25 | F25: 0.25 | G25: 0.25 | H25: 0.25 | I25: 0.25 | J25: 0.25 | K25: 0.25 | L25: 0.25 | M25: 0.25 | N25: 0.4 | O25: 0.4 | P25: 0.4 | Q25: 0.4 | R25: 0.4 | S25: 0.4 | T25: 0.4 | U25: 0.4 | V25: 0.25 | W25: 0.25 | X25: 0.25
A26: 13 | B26: Equity Amount | C26: =C23*C25 -> 4124823.4 | D26: =D23*D25 -> 2135380.5 | E26: =E23*E25 -> 2318498.3 | F26: =F23*F25 -> 2519311.6 | G26: =G23*G25 -> 3564733.4 | H26: =H23*H25 -> 2510165.6 | I26: =I23*I25 -> 3993201.3 | J26: =J23*J25 -> 2779175.9 | ... X26: =X23*X25 -> 225395.25
A27: 14 | B27: Reservation Fee | C27: 50000 | D27: 50000 | E27: 50000 | F27: 50000 | G27: 50000 | H27: 50000 | I27: 50000 | J27: 50000 | K27: 50000 | L27: 50000 | M27: 50000 | N27: ='[16]Project Data'!$E$113 -> 100000 | O27: ='[16]Project Data'!$E$113 -> 100000 | P27: ='[16]Project Data'!$E$113 -> 100000 | Q27: ='[16]Project Data'!$E$113 -> 100000 | R27: ='[16]Project Data'!$E$113 -> 100000 | S27: ='[16]Project Data'!$E$113 -> 100000 | T27: ='[16]Project Data'!$E$113 -> 100000 | U27: ='[16]Project Data'!$E$113 -> 100000 | V27: 30000 | W27: 30000 | X27: 30000
A28: 15 | B28: Equity Balance | C28: =C26-C27 -> 4074823.4 | D28: =D26-D27 -> 2085380.5 | E28: =E26-E27 -> 2268498.3 | F28: =F26-F27 -> 2469311.6 | G28: =G26-G27 -> 3514733.4 | H28: =H26-H27 -> 2460165.6 | I28: =I26-I27 -> 3943201.3 | J28: =J26-J27 -> 2729175.9 | ... X28: =X26-X27 -> 195395.25
A29: 18 | B29: Equity Term | C29: ='[16]Project Data'!$E$115 -> 34 | X29: ='[16]Project Data'!$E$115 -> 34
A30: 19 | B30: Monthly Payment | C30: =C28/C29 -> 119847.75 | X30: =X28/X29 -> 5746.9191
A32: 20 | B32: Loanable Amount | C32: =C23-C26 -> 12374470 | X32: =X23-X26 -> 676185.75
A33: 21 | B33: 5 years @ 7.00% | C33: =C32*$AA$7 -> 0 | X33: =X32*$AA$7 -> 0
A34: 22 | B34: 10 Years @ 7.5% | C34: =C32*$AA$9 -> 0 | X34: =X32*$AA$9 -> 0
A35: 23 | B35: 15 Years @ 8.0% | C35: =C32*$AA$10 -> 0 | X35: =X32*$AA$10 -> 0
A36: =A35+1 -> 24 | B36: Construction Contingency | C36: ='[17]Project Data'!E125*'[17]Project Data'!E119 -> #REF!
A37: =A36+1 -> 25 | B37: Package Selling Price: | C37: =C31+C35+C36 -> #REF!
A39: Package 4
A40: 1 | B40: Lot Area: | C40: ='[17]Project Data'!E87 -> #REF!
A41: =A40+1 -> 2 | B41: Floor Area: | C41: ='[17]Project Data'!E86 -> #REF!
A42: =A41+1 -> 3 | B42: Lot Selling Price: | C42: =C40*C43 -> #REF!
A43: =A42+1 -> 4 | B43: Selling Price/SQM: | C43: ='[17]Project Data'!E90 -> 135000
A44: =A43+1 -> 5 | B44: House Cost: | C44: ='[17]Project Data'!E122 -> #REF!
A45: =A44+1 -> 6 | B45: House Cost/SQM: | C45: =C44/C41 -> #REF!
A46: =A45+1 -> 7 | B46: House Selling Price: | C46: =C44*2 -> #REF!
...

Sheet Internal Pricelist - PS
O1: 500 | P1: 2000 | Q1: 0.005 | R1: 1000 | S1: 1000
A2: Residential | B2: No. | C2: Sale Status | D2: Actual Floor | E2: Building Floor | F2: Unit | G2: Unit Code | H2: Unit Type | I2: Floor Area | J2: Balcony | K2: Total Area | L2: Total Selling Price | M2: Discount | N2: Floor Nominal | O2: Floor Additive | P2: Special Additive | Q2: Recovery Additive | R2: Corner | S2: Facing East | T2: Configuration | U2: level additives | V2: Total Additives | W2: Net Selling Price | X2: LMF | Y2: BF | Z2: VAT | AA2: TCP | AB2: Price per sqm | AC2: DP% | AD2: Equity | AE2: RF | AF2: Monthly Equity | AG2: Equity Term | AH2: Loanable Amount | AI2: SUM | AJ2: Variance | AK2: 44470 | AL2: 44521 | AM2: 44551 | AN2: 44562 | AO2: 44593 | AP2: 44621 | AQ2: 44652 | AR2: 44682 | AS2: 44713 | AT2: 44743 | AU2: 44774 | AV2: 44805 | AW2: 44835 | AX2: 44866 | AY2: 44896 | AZ2: 44927 | BA2: 44958 | BB2: 44986 | BC2: 45017 | BD2: 45047 | BE2: 45078 | BF2: 45108 | BG2: 45139 | BH2: 45170 | BI2: 45200 | BJ2: 45231 | BK2: 45261 | BL2: 45292 | BM2: 45323 | BN2: 45352 | BO2: 45383 | BP2: 45413 | BQ2: 45444 | BR2: 45474 | BS2: 45505 | BT2: 45536 | BU2: 45566 | BV2: 45597 | BW2: 45627 | BX2: 45658 | BY2: 45689 | BZ2: 45717 | CA2: 45748 | CB2: 45778 | CC2: 45809 | CD2: 45839 | CE2: 45870 | CF2: 45901 | CG2: 45931 | CH2: 45962 | CI2: 45992 | CJ2: 46023 | CK2: 46054 | CL2: 46082 | CM2: 46113 | CN2: 46143 | CO2: 46174 | CP2: 46204 | CQ2: 46235 | CR2: 46266 | CS2: 46296 | CT2: 46327 | CU2: 46357 | CV2: 46388 | CW2: 46419 | CX2: 46447 | CY2: 46478 | CZ2: 46508 | DA2: 46539 | DB2: 46569 | DC2: 46600 | DD2: 46631 | DE2: 46661 | DF2: 46692 | DG2: 46722 | DH2: 46753 | DI2: 46784 | DJ2: 46813 | DK2: 46844 | DL2: 46874 | DM2: 46905 | DN2: 46935 | DO2: 46966 | DP2: 46997 | DQ2: 47027 | DR2: 47058 | DS2: 47088 | DT2: 47119 | DU2: 47150 | DV2: 47178 | DW2: 47209 | DX2: 47239 | DY2: 47270 | DZ2: 47300 | EA2: 47331 | EB2: 47362 | EC2: 47392 | ED2: 47423 | EE2: 47453 | EF2: 47484 | EG2: 47515 | EH2: 47543 | EI2: 47574 | EJ2: 47604 | EK2: 47635 | EL2: 47665 | EM2: 47696 | EN2: 47727 | EO2: 47757 | EP2: 47788 | EQ2: 47818 | ER2: 47849 | ES2: 47880 | EV2: SP/SQM
A3: 1 | B3: 1 | C3: Unsold | D3: 4th | E3: 5th | F3: A | G3: 5A | H3: 2-BR | I3: ='[18]Collection Unsold 10.15.21'!G4 -> 98.5 | J3: ='[18]Collection Unsold 10.15.21'!H4 -> 10.46 | K3: =I3+J3 -> 108.96 | L3: ='Package Breakdown - Casas 10.21'!C69 -> 12447600 | N3: 1 | O3: =I3*N3*500 -> 49250 | R3: =I3*1000 -> 98500 | S3: =I3*1000 -> 98500 | T3: CORNER | V3: =SUM(O3:S3) -> 246250 | W3: =L3-M3+V3 -> 12693850 | X3: =W3*6% -> 761631 | Y3: =W3*2.5% -> 317346.25 | Z3: =W3*12% -> 1523262 | AA3: =W3+X3+Y3+Z3 -> 15296089 | AB3: =AA3/K3 -> 140382.61 | AC3: 0.25 | AD3: =AA3*AC3 -> 3824022.3 | AE3: 50000 | AF3: =(AD3-AE3)/(AG3) -> 87767.961 | AG3: 43 | AH3: =AA3-AD3 -> 11472067 | AI3: =SUM(AK3:CK3) -> 0 | AJ3: =AI3-AA3 -> -15296089 | EV3: =W3/K3 -> 116500.09
B4: 2 | C4: Unsold | D4: 4th | E4: 5th | F4: B | G4: 5B | H4: 1-BR | I4: ='[18]Collection Unsold 10.15.21'!G5 -> 51.02 | J4: ='[18]Collection Unsold 10.15.21'!H5 -> 5.36 | K4: =I4+J4 -> 56.38 | L4: ='Package Breakdown - Casas 10.21'!D69 -> 6444000 | N4: 1 | O4: =I4*N4*500 -> 25510 | S4: =I4*1000 -> 51020 | T4: INNER | V4: =SUM(O4:S4) -> 76530 | W4: =L4-M4+V4 -> 6520530 | X4: =W4*6% -> 391231.8 | Y4: =W4*2.5% -> 163013.25 | Z4: =W4*12% -> 782463.6 | AA4: =W4+X4+Y4+Z4 -> 7857238.6 | AB4: =AA4/K4 -> 139362.16 | AC4: 0.25 | AD4: =AA4*AC4 -> 1964309.7 | AE4: 50000 | AF4: =(AD4-AE4)/(AG4) -> 44518.829 | AG4: 43 | AH4: =AA4-AD4 -> 5892929 | AI4: =SUM(AK4:CK4) -> 0 | AJ4: =AI4-AA4 -> -7857238.6 | EV4: =W4/K4 -> 115653.25
B5: 3 | C5: Unsold | D5: 4th | E5: 5th | F5: C | G5: 5C | H5: 2-BR | I5: ='[18]Collection Unsold 10.15.21'!G6 -> 55.62 | J5: ='[18]Collection Unsold 10.15.21'!H6 -> 5.37 | K5: =I5+J5 -> 60.99 | L5: ='Package Breakdown - Casas 10.21'!E69 -> 6996600 | N5: 1 | O5: =I5*N5*500 -> 27810 | S5: =I5*1000 -> 55620 | T5: INNER | V5: =SUM(O5:S5) -> 83430 | W5: =L5-M5+V5 -> 7080030 | X5: =W5*6% -> 424801.8 | Y5: =W5*2.5% -> 177000.75 | Z5: =W5*12% -> 849603.6 | AA5: =W5+X5+Y5+Z5 -> 8531436.2 | AB5: =AA5/K5 -> 139882.54 | AC5: 0.25 | AD5: =AA5*AC5 -> 2132859 | AE5: 50000 | AF5: =(AD5-AE5)/(AG5) -> 48438.582 | AG5: 43 | AH5: =AA5-AD5 -> 6398577.1 | AI5: =SUM(AK5:CK5) -> 0 | AJ5: =AI5-AA5 -> -8531436.2 | EV5: =W5/K5 -> 116085.1
B6: 4 | C6: Unsold | D6: 4th | E6: 5th | F6: D | G6: 5D | H6: 2-BR | I6: ='[18]Collection Unsold 10.15.21'!G7 -> 60.78 | J6: ='[18]Collection Unsold 10.15.21'!H7 -> 5.15 | K6: =I6+J6 -> 65.93 | L6: ='Package Breakdown - Casas 10.21'!F69 -> 7602600 | N6: 1 | O6: =I6*N6*500 -> 30390 | S6: =I6*1000 -> 60780 | T6: INNER | V6: =SUM(O6:S6) -> 91170 | W6: =L6-M6+V6 -> 7693770 | X6: =W6*6% -> 461626.2 | Y6: =W6*2.5% -> 192344.25 | Z6: =W6*12% -> 923252.4 | AA6: =W6+X6+Y6+Z6 -> 9270992.8 | AB6: =AA6/K6 -> 140618.73 | AC6: 0.25 | AD6: =AA6*AC6 -> 2317748.2 | AE6: 50000 | AF6: =(AD6-AE6)/(AG6) -> 52738.331 | AG6: 43 | AH6: =AA6-AD6 -> 6953244.6 | AI6: =SUM(AK6:CK6) -> 0 | AJ6: =AI6-AA6 -> -9270992.8 | EV6: =W6/K6 -> 116696.04
B7: 5 | C7: Unsold | D7: 4th | E7: 5th | F7: E | G7: 5E | H7: 2-BR | I7: ='[18]Collection Unsold 10.15.21'!G8 -> 83.49 | J7: ='[18]Collection Unsold 10.15.21'!H8 -> 12.31 | K7: =I7+J7 -> 95.8 | L7: ='Package Breakdown - Casas 10.21'!G69 -> 10757400 | N7: 1 | O7: =I7*N7*500 -> 41745 | R7: =I7*1000 -> 83490 | S7: =I7*1000 -> 83490 | T7: CORNER | V7: =SUM(O7:S7) -> 208725 | W7: =L7-M7+V7 -> 10966125 | X7: =W7*6% -> 657967.5 | Y7: =W7*2.5% -> 274153.12 | Z7: =W7*12% -> 1315935 | AA7: =W7+X7+Y7+Z7 -> 13214181 | AB7: =AA7/K7 -> 137935.08 | AC7: 0.25 | AD7: =AA7*AC7 -> 3303545.2 | AE7: 50000 | AF7: =(AD7-AE7)/(AG7) -> 75663.841 | AG7: 43 | AH7: =AA7-AD7 -> 9910635.5 | AI7: =SUM(AK7:CK7) -> 0 | AJ7: =AI7-AA7 -> -13214181 | EV7: =W7/K7 -> 114468.95
B8: 6 | C8: Unsold | D8: 4th | E8: 5th | F8: F | G8: 5F | H8: 2-BR | I8: ='[18]Collection Unsold 10.15.21'!G9 -> 61.03 | J8: ='[18]Collection Unsold 10.15.21'!H9 -> 4.19 | K8: =I8+J8 -> 65.22 | L8: ='Package Breakdown - Casas 10.21'!H69 -> 7575000 | N8: 1 | O8: =I8*N8*500 -> 30515 | T8: INNER | V8: =SUM(O8:S8) -> 30515 | W8: =L8-M8+V8 -> 7605515 | X8: =W8*6% -> 456330.9 | Y8: =W8*2.5% -> 190137.88 | Z8: =W8*12% -> 912661.8 | AA8: =W8+X8+Y8+Z8 -> 9164645.6 | AB8: =AA8/K8 -> 140518.94 | AC8: 0.25 | AD8: =AA8*AC8 -> 2291161.4 | AE8: 50000 | AF8: =(AD8-AE8)/(AG8) -> 52120.032 | AG8: 43 | AH8: =AA8-AD8 -> 6873484.2 | AI8: =SUM(AK8:CK8) -> 0 | AJ8: =AI8-AA8 -> -9164645.6 | EV8: =W8/K8 -> 116613.23
B9: 7 | C9: Unsold | D9: 4th | E9: 5th | F9: G | G9: 5G | H9: 2-BR | I9: ='[18]Collection Unsold 10.15.21'!G10 -> 94.79 | J9: ='[18]Collection Unsold 10.15.21'!H10 -> 11.26 | K9: =I9+J9 -> 106.05 | L9: ='Package Breakdown - Casas 10.21'!I69 -> 12050400 | N9: 1 | O9: =I9*N9*500 -> 47395 | R9: =I9*1000 -> 94790 | T9: CORNER | V9: =SUM(O9:S9) -> 142185 | W9: =L9-M9+V9 -> 12192585 | X9: =W9*6% -> 731555.1 | Y9: =W9*2.5% -> 304814.62 | Z9: =W9*12% -> 1463110.2 | AA9: =W9+X9+Y9+Z9 -> 14692065 | AB9: =AA9/K9 -> 138539.04 | AC9: 0.25 | AD9: =AA9*AC9 -> 3673016.2 | AE9: 50000 | AF9: =(AD9-AE9)/(AG9) -> 84256.191 | AG9: 43 | AH9: =AA9-AD9 -> 11019049 | AI9: =SUM(AL9:CK9) -> 0 | AJ9: =AI9-AA9 -> -14692065 | EV9: =W9/K9 -> 114970.16
B10: 8 | C10: Unsold | D10: 4th | E10: 5th | F10: H | G10: 5H | H10: 2-BR | I10: ='[18]Collection Unsold 10.15.21'!G11 -> 67.79 | J10: ='[18]Collection Unsold 10.15.21'!H11 -> 4.2 | K10: =I10+J10 -> 71.99 | L10: ='Package Breakdown - Casas 10.21'!J69 -> 8386800 | N10: 1 | O10: =I10*N10*500 -> 33895 | T10: INNER | V10: =SUM(O10:S10) -> 33895 | W10: =L10-M10+V10 -> 8420695 | X10: =W10*6% -> 505241.7 | Y10: =W10*2.5% -> 210517.38 | Z10: =W10*12% -> 1010483.4 | AA10: =W10+X10+Y10+Z10 -> 10146937 | AB10: =AA10/K10 -> 140949.26 | AC10: 0.25 | AD10: =AA10*AC10 -> 2536734.4 | AE10: 50000 | AF10: =(AD10-AE10)/(AG10) -> 57831.032 | AG10: 43 | AH10: =AA10-AD10 -> 7610203.1 | AI10: =SUM(AL10:CK10) -> 0 | AJ10: =AI10-AA10 -> -10146937 | EV10: =W10/K10 -> 116970.34
B11: 9 | C11: Unsold | D11: 4th | E11: 5th | F11: I | G11: 5I | H11: 2-BR | I11: ='[18]Collection Unsold 10.15.21'!G12 -> 67.72 | J11: ='[18]Collection Unsold 10.15.21'!H12 -> 4.2 | K11: =I11+J11 -> 71.92 | L11: ='Package Breakdown - Casas 10.21'!K69 -> 8378400 | N11: 1 | O11: =I11*N11*500 -> 33860 | T11: INNER | V11: =SUM(O11:S11) -> 33860 | W11: =L11-M11+V11 -> 8412260 | X11: =W11*6% -> 504735.6 | Y11: =W11*2.5% -> 210306.5 | Z11: =W11*12% -> 1009471.2 | AA11: =W11+X11+Y11+Z11 -> 10136773 | AB11: =AA11/K11 -> 140945.12 | AC11: 0.25 | AD11: =AA11*AC11 -> 2534193.3 | AE11: 50000 | AF11: =(AD11-AE11)/(AG11) -> 57771.938 | AG11: 43 | AH11: =AA11-AD11 -> 7602580 | AI11: =SUM(AL11:CK11) -> 0 | AJ11: =AI11-AA11 -> -10136773 | EV11: =W11/K11 -> 116966.91
B12: 10 | C12: Unsold | D12: 4th | E12: 5th | F12: J | G12: 5J | H12: 2-BR | I12: ='[18]Collection Unsold 10.15.21'!G13 -> 67.72 | J12: ='[18]Collection Unsold 10.15.21'!H13 -> 4.2 | K12: =I12+J12 -> 71.92 | L12: ='Package Breakdown - Casas 10.21'!K69 -> 8378400 | N12: 1 | O12: =I12*N12*500 -> 33860 | T12: INNER | V12: =SUM(O12:S12) -> 33860 | W12: =L12-M12+V12 -> 8412260 | X12: =W12*6% -> 504735.6 | Y12: =W12*2.5% -> 210306.5 | Z12: =W12*12% -> 1009471.2 | AA12: =W12+X12+Y12+Z12 -> 10136773 | AB12: =AA12/K12 -> 140945.12 | AC12: 0.25 | AD12: =AA12*AC12 -> 2534193.3 | AE12: 50000 | AF12: =(AD12-AE12)/(AG12) -> 57771.938 | AG12: 43 | AH12: =AA12-AD12 -> 7602580 | AI12: =SUM(AL12:CK12) -> 0 | AJ12: =AI12-AA12 -> -10136773 | EV12: =W12/K12 -> 116966.91
B13: 11 | C13: Unsold | D13: 4th | E13: 5th | F13: K | G13: 5K | H13: 2-BR | I13: ='[18]Collection Unsold 10.15.21'!G14 -> 67.72 | J13: ='[18]Collection Unsold 10.15.21'!H14 -> 4.2 | K13: =I13+J13 -> 71.92 | L13: ='Package Breakdown - Casas 10.21'!K69 -> 8378400 | N13: 1 | O13: =I13*N13*500 -> 33860 | T13: INNER | V13: =SUM(O13:S13) -> 33860 | W13: =L13-M13+V13 -> 8412260 | X13: =W13*6% -> 504735.6 | Y13: =W13*2.5% -> 210306.5 | Z13: =W13*12% -> 1009471.2 | AA13: =W13+X13+Y13+Z13 -> 10136773 | AB13: =AA13/K13 -> 140945.12 | AC13: 0.25 | AD13: =AA13*AC13 -> 2534193.3 | AE13: 50000 | AF13: =(AD13-AE13)/(AG13) -> 57771.938 | AG13: 43 | AH13: =AA13-AD13 -> 7602580 | AI13: =SUM(AL13:CK13) -> 0 | AJ13: =AI13-AA13 -> -10136773 | EV13: =W13/K13 -> 116966.91
B14: 12 | C14: Unsold | D14: 4th | E14: 5th | F14: L | G14: 5L | H14: 2-BR | I14: ='[18]Collection Unsold 10.15.21'!G15 -> 86.15 | J14: ='[18]Collection Unsold 10.15.21'!H15 -> 12.66 | K14: =I14+J14 -> 98.81 | L14: ='Package Breakdown - Casas 10.21'!L69 -> 11097600 | N14: 1 | O14: =I14*N14*500 -> 43075 | R14: =I14*1000 -> 86150 | S14: =I14*1000 -> 86150 | T14: CORNER | V14: =SUM(O14:S14) -> 215375 | W14: =L14-M14+V14 -> 11312975 | X14: =W14*6% -> 678778.5 | Y14: =W14*2.5% -> 282824.38 | Z14: =W14*12% -> 1357557 | AA14: =W14+X14+Y14+Z14 -> 13632135 | AB14: =AA14/K14 -> 137963.11 | AC14: 0.25 | AD14: =AA14*AC14 -> 3408033.7 | AE14: 50000 | AF14: =(AD14-AE14)/(AG14) -> 78093.807 | AG14: 43 | AH14: =AA14-AD14 -> 10224101 | AI14: =SUM(AL14:CK14) -> 0 | AJ14: =AI14-AA14 -> -13632135 | EV14: =W14/K14 -> 114492.21
B15: 13 | C15: Not Yet Open | D15: 4th | E15: 5th | F15: M | G15: 5M | H15: 2-BR | I15: ='[18]Collection Unsold 10.15.21'!G16 -> 53.53 | J15: ='[18]Collection Unsold 10.15.21'!H16 -> 4.18 | K15: =I15+J15 -> 57.71 | L15: ='Package Breakdown - Casas 10.21'!M69 -> 6674400 | N15: 1 | O15: =I15*N15*500 -> 26765 | S15: =I15*1000 -> 53530 | T15: INNER | V15: =SUM(O15:S15) -> 80295 | W15: =L15-M15+V15 -> 6754695 | X15: =W15*6% -> 405281.7 | Y15: =W15*2.5% -> 168867.38 | Z15: =W15*12% -> 810563.4 | AA15: =W15+X15+Y15+Z15 -> 8139407.5 | AB15: =AA15/K15 -> 141039.81 | AC15: 0.25 | AD15: =AA15*AC15 -> 2034851.9 | AE15: 50000 | AF15: =(AD15-AE15)/(AG15) -> 46159.346 | AG15: 43 | AH15: =AA15-AD15 -> 6104555.6 | AI15: =SUM(AL15:CK15) -> 0 | AJ15: =AI15-AA15 -> -8139407.5 | EV15: =W15/K15 -> 117045.49
A16: 2 | B16: 14 | C16: Unsold | D16: 5th | E16: 6th | F16: A | G16: 6A | H16: 2-BR | I16: ='[18]Collection Unsold 10.15.21'!G17 -> 98.5 | J16: ='[18]Collection Unsold 10.15.21'!H17 -> 10.46 | K16: =I16+J16 -> 108.96 | L16: =L3 -> 12447600 | N16: 2 | O16: =I16*N16*500 -> 98500 | R16: =I16*1000 -> 98500 | S16: =I16*1000 -> 98500 | T16: =T3 -> CORNER | V16: =SUM(O16:S16) -> 295500 | W16: =L16-M16+V16 -> 12743100 | X16: =W16*6% -> 764586 | Y16: =W16*2.5% -> 318577.5 | Z16: =W16*12% -> 1529172 | AA16: =W16+X16+Y16+Z16 -> 15355436 | AB16: =AA16/K16 -> 140927.27 | AC16: 0.25 | AD16: =AA16*AC16 -> 3838858.9 | AE16: 50000 | AF16: =(AD16-AE16)/(AG16) -> 88112.997 | AG16: 43 | AH16: =AA16-AD16 -> 11516577 | AI16: =SUM(AL16:CK16) -> 0 | AJ16: =AI16-AA16 -> -15355436 | EV16: =W16/K16 -> 116952.09
B17: 15 | C17: Unsold | D17: 5th | E17: 6th | F17: B | G17: 6B | H17: 1-BR | I17: ='[18]Collection Unsold 10.15.21'!G18 -> 51.02 | J17: ='[18]Collection Unsold 10.15.21'!H18 -> 5.36 | K17: =I17+J17 -> 56.38 | L17: =L4 -> 6444000 | N17: 2 | O17: =I17*N17*500 -> 51020 | S17: =I17*1000 -> 51020 | T17: =T4 -> INNER | V17: =SUM(O17:S17) -> 102040 | W17: =L17-M17+V17 -> 6546040 | X17: =W17*6% -> 392762.4 | Y17: =W17*2.5% -> 163651 | Z17: =W17*12% -> 785524.8 | AA17: =W17+X17+Y17+Z17 -> 7887978.2 | AB17: =AA17/K17 -> 139907.38 | AC17: 0.25 | AD17: =AA17*AC17 -> 1971994.6 | AE17: 50000 | AF17: =(AD17-AE17)/(AG17) -> 44697.548 | AG17: 43 | AH17: =AA17-AD17 -> 5915983.7 | AI17: =SUM(AL17:CK17) -> 0 | AJ17: =AI17-AA17 -> -7887978.2 | EV17: =W17/K17 -> 116105.71
B18: 16 | C18: Unsold | D18: 5th | E18: 6th | F18: C | G18: 6C | H18: 2-BR | I18: ='[18]Collection Unsold 10.15.21'!G19 -> 55.62 | J18: ='[18]Collection Unsold 10.15.21'!H19 -> 5.37 | K18: =I18+J18 -> 60.99 | L18: =L5 -> 6996600 | N18: 2 | O18: =I18*N18*500 -> 55620 | S18: =I18*1000 -> 55620 | T18: =T5 -> INNER | V18: =SUM(O18:S18) -> 111240 | W18: =L18-M18+V18 -> 7107840 | X18: =W18*6% -> 426470.4 | Y18: =W18*2.5% -> 177696 | Z18: =W18*12% -> 852940.8 | AA18: =W18+X18+Y18+Z18 -> 8564947.2 | AB18: =AA18/K18 -> 140431.99 | AC18: 0.25 | AD18: =AA18*AC18 -> 2141236.8 | AE18: 50000 | AF18: =(AD18-AE18)/(AG18) -> 48633.414 | AG18: 43 | AH18: =AA18-AD18 -> 6423710.4 | AI18: =SUM(AL18:CK18) -> 0 | AJ18: =AI18-AA18 -> -8564947.2 | EV18: =W18/K18 -> 116541.07
B19: 17 | C19: Unsold | D19: 5th | E19: 6th | F19: D | G19: 6D | H19: 2-BR | I19: ='[18]Collection Unsold 10.15.21'!G20 -> 60.78 | J19: ='[18]Collection Unsold 10.15.21'!H20 -> 5.15 | K19: =I19+J19 -> 65.93 | L19: =L6 -> 7602600 | N19: 2 | O19: =I19*N19*500 -> 60780 | S19: =I19*1000 -> 60780 | T19: =T6 -> INNER | V19: =SUM(O19:S19) -> 121560 | W19: =L19-M19+V19 -> 7724160 | X19: =W19*6% -> 463449.6 | Y19: =W19*2.5% -> 193104 | Z19: =W19*12% -> 926899.2 | AA19: =W19+X19+Y19+Z19 -> 9307612.8 | AB19: =AA19/K19 -> 141174.17 | AC19: 0.25 | AD19: =AA19*AC19 -> 2326903.2 | AE19: 50000 | AF19: =(AD19-AE19)/(AG19) -> 52951.237 | AG19: 43 | AH19: =AA19-AD19 -> 6980709.6 | AI19: =SUM(AL19:CK19) -> 0 | AJ19: =AI19-AA19 -> -9307612.8 | EV19: =W19/K19 -> 117156.98
B20: 18 | C20: Unsold | D20: 5th | E20: 6th | F20: E | G20: 6E | H20: 2-BR | I20: ='[18]Collection Unsold 10.15.21'!G21 -> 83.49 | J20: ='[18]Collection Unsold 10.15.21'!H21 -> 12.31 | K20: =I20+J20 -> 95.8 | L20: =L7 -> 10757400 | N20: 2 | O20: =I20*N20*500 -> 83490 | R20: =I20*1000 -> 83490 | S20: =I20*1000 -> 83490 | T20: =T7 -> CORNER | V20: =SUM(O20:S20) -> 250470 | W20: =L20-M20+V20 -> 11007870 | X20: =W20*6% -> 660472.2 | Y20: =W20*2.5% -> 275196.75 | Z20: =W20*12% -> 1320944.4 | AA20: =W20+X20+Y20+Z20 -> 13264483 | AB20: =AA20/K20 -> 138460.16 | AC20: 0.25 | AD20: =AA20*AC20 -> 3316120.8 | AE20: 50000 | AF20: =(AD20-AE20)/(AG20) -> 75956.299 | AG20: 43 | AH20: =AA20-AD20 -> 9948362.5 | AI20: =SUM(AL20:CK20) -> 0 | AJ20: =AI20-AA20 -> -13264483 | EV20: =W20/K20 -> 114904.7
B21: 19 | C21: Unsold | D21: 5th | E21: 6th | F21: F | G21: 6F | H21: 2-BR | I21: ='[18]Collection Unsold 10.15.21'!G22 -> 61.03 | J21: ='[18]Collection Unsold 10.15.21'!H22 -> 4.19 | K21: =I21+J21 -> 65.22 | L21: =L8 -> 7575000 | N21: 2 | O21: =I21*N21*500 -> 61030 | T21: =T8 -> INNER | V21: =SUM(O21:S21) -> 61030 | W21: =L21-M21+V21 -> 7636030 | X21: =W21*6% -> 458161.8 | Y21: =W21*2.5% -> 190900.75 | Z21: =W21*12% -> 916323.6 | AA21: =W21+X21+Y21+Z21 -> 9201416.2 | AB21: =AA21/K21 -> 141082.74 | AC21: 0.25 | AD21: =AA21*AC21 -> 2300354 | AE21: 50000 | AF21: =(AD21-AE21)/(AG21) -> 52333.815 | AG21: 43 | AH21: =AA21-AD21 -> 6901062.1 | AI21: =SUM(AL21:CK21) -> 0 | AJ21: =AI21-AA21 -> -9201416.2 | EV21: =W21/K21 -> 117081.11
B22: 20 | C22: Unsold | D22: 5th | E22: 6th | F22: G | G22: 6G | H22: 2-BR | I22: ='[18]Collection Unsold 10.15.21'!G23 -> 94.79 | J22: ='[18]Collection Unsold 10.15.21'!H23 -> 11.26 | K22: =I22+J22 -> 106.05 | L22: =L9 -> 12050400 | N22: 2 | O22: =I22*N22*500 -> 94790 | R22: =I22*1000 -> 94790 | T22: =T9 -> CORNER | V22: =SUM(O22:S22) -> 189580 | W22: =L22-M22+V22 -> 12239980 | X22: =W22*6% -> 734398.8 | Y22: =W22*2.5% -> 305999.5 | Z22: =W22*12% -> 1468797.6 | AA22: =W22+X22+Y22+Z22 -> 14749176 | AB22: =AA22/K22 -> 139077.57 | AC22: 0.25 | AD22: =AA22*AC22 -> 3687294 | AE22: 50000 | AF22: =(AD22-AE22)/(AG22) -> 84588.232 | AG22: 43 | AH22: =AA22-AD22 -> 11061882 | AI22: =SUM(AL22:CK22) -> 0 | AJ22: =AI22-AA22 -> -14749176 | EV22: =W22/K22 -> 115417.07
B23: 21 | C23: Unsold | D23: 5th | E23: 6th | F23: H | G23: 6H | H23: 2-BR | I23: ='[18]Collection Unsold 10.15.21'!G24 -> 67.79 | J23: ='[18]Collection Unsold 10.15.21'!H24 -> 4.2 | K23: =I23+J23 -> 71.99 | L23: =L10 -> 8386800 | N23: 2 | O23: =I23*N23*500 -> 67790 | T23: =T10 -> INNER | V23: =SUM(O23:S23) -> 67790 | W23: =L23-M23+V23 -> 8454590 | X23: =W23*6% -> 507275.4 | Y23: =W23*2.5% -> 211364.75 | Z23: =W23*12% -> 1014550.8 | AA23: =W23+X23+Y23+Z23 -> 10187781 | AB23: =AA23/K23 -> 141516.61 | AC23: 0.25 | AD23: =AA23*AC23 -> 2546945.2 | AE23: 50000 | AF23: =(AD23-AE23)/(AG23) -> 58068.494 | AG23: 43 | AH23: =AA23-AD23 -> 7640835.7 | AI23: =SUM(AL23:CK23) -> 0 | AJ23: =AI23-AA23 -> -10187781 | EV23: =W23/K23 -> 117441.17
B24: 22 | C24: Unsold | D24: 5th | E24: 6th | F24: I | G24: 6I | H24: 2-BR | I24: ='[18]Collection Unsold 10.15.21'!G25 -> 67.72 | J24: ='[18]Collection Unsold 10.15.21'!H25 -> 4.2 | K24: =I24+J24 -> 71.92 | L24: =L11 -> 8378400 | N24: 2 | O24: =I24*N24*500 -> 67720 | T24: =T11 -> INNER | V24: =SUM(O24:S24) -> 67720 | W24: =L24-M24+V24 -> 8446120 | X24: =W24*6% -> 506767.2 | Y24: =W24*2.5% -> 211153 | Z24: =W24*12% -> 1013534.4 | AA24: =W24+X24+Y24+Z24 -> 10177575 | AB24: =AA24/K24 -> 141512.44 | AC24: 0.25 | AD24: =AA24*AC24 -> 2544393.6 | AE24: 50000 | AF24: =(AD24-AE24)/(AG24) -> 58009.155 | AG24: 43 | AH24: =AA24-AD24 -> 7633180.9 | AI24: =SUM(AL24:CK24) -> 0 | AJ24: =AI24-AA24 -> -10177575 | EV24: =W24/K24 -> 117437.71
B25: 23 | C25: Unsold | D25: 5th | E25: 6th | F25: J | G25: 6J | H25: 2-BR | I25: ='[18]Collection Unsold 10.15.21'!G26 -> 67.72 | J25: ='[18]Collection Unsold 10.15.21'!H26 -> 4.2 | K25: =I25+J25 -> 71.92 | L25: =L12 -> 8378400 | N25: 2 | O25: =I25*N25*500 -> 67720 | T25: =T12 -> INNER | V25: =SUM(O25:S25) -> 67720 | W25: =L25-M25+V25 -> 8446120 | X25: =W25*6% -> 506767.2 | Y25: =W25*2.5% -> 211153 | Z25: =W25*12% -> 1013534.4 | AA25: =W25+X25+Y25+Z25 -> 10177575 | AB25: =AA25/K25 -> 141512.44 | AC25: 0.25 | AD25: =AA25*AC25 -> 2544393.6 | AE25: 50000 | AF25: =(AD25-AE25)/(AG25) -> 58009.155 | AG25: 43 | AH25: =AA25-AD25 -> 7633180.9 | AI25: =SUM(AL25:CK25) -> 0 | AJ25: =AI25-AA25 -> -10177575 | EV25: =W25/K25 -> 117437.71
B26: 24 | C26: Unsold | D26: 5th | E26: 6th | F26: K | G26: 6K | H26: 2-BR | I26: ='[18]Collection Unsold 10.15.21'!G27 -> 67.72 | J26: ='[18]Collection Unsold 10.15.21'!H27 -> 4.2 | K26: =I26+J26 -> 71.92 | L26: =L13 -> 8378400 | N26: 2 | O26: =I26*N26*500 -> 67720 | T26: =T13 -> INNER | V26: =SUM(O26:S26) -> 67720 | W26: =L26-M26+V26 -> 8446120 | X26: =W26*6% -> 506767.2 | Y26: =W26*2.5% -> 211153 | Z26: =W26*12% -> 1013534.4 | AA26: =W26+X26+Y26+Z26 -> 10177575 | AB26: =AA26/K26 -> 141512.44 | AC26: 0.25 | AD26: =AA26*AC26 -> 2544393.6 | AE26: 50000 | AF26: =(AD26-AE26)/(AG26) -> 58009.155 | AG26: 43 | AH26: =AA26-AD26 -> 7633180.9 | AI26: =SUM(AL26:CK26) -> 0 | AJ26: =AI26-AA26 -> -10177575 | EV26: =W26/K26 -> 117437.71
B27: 25 | C27: Unsold | D27: 5th | E27: 6th | F27: L | G27: 6L | H27: 2-BR | I27: ='[18]Collection Unsold 10.15.21'!G28 -> 86.15 | J27: ='[18]Collection Unsold 10.15.21'!H28 -> 12.66 | K27: =I27+J27 -> 98.81 | L27: =L14 -> 11097600 | N27: 2 | O27: =I27*N27*500 -> 86150 | R27: =I27*1000 -> 86150 | S27: =I27*1000 -> 86150 | T27: =T14 -> CORNER | V27: =SUM(O27:S27) -> 258450 | W27: =L27-M27+V27 -> 11356050 | X27: =W27*6% -> 681363 | Y27: =W27*2.5% -> 283901.25 | Z27: =W27*12% -> 1362726 | AA27: =W27+X27+Y27+Z27 -> 13684040 | AB27: =AA27/K27 -> 138488.41 | AC27: 0.25 | AD27: =AA27*AC27 -> 3421010.1 | AE27: 50000 | AF27: =(AD27-AE27)/(AG27) -> 78395.583 | AG27: 43 | AH27: =AA27-AD27 -> 10263030 | AI27: =SUM(AL27:CK27) -> 0 | AJ27: =AI27-AA27 -> -13684040 | EV27: =W27/K27 -> 114928.14
B28: 26 | C28: Not Yet Open | D28: 5th | E28: 6th | F28: M | G28: 6M | H28: 2-BR | I28: ='[18]Collection Unsold 10.15.21'!G29 -> 53.53 | J28: ='[18]Collection Unsold 10.15.21'!H29 -> 4.18 | K28: =I28+J28 -> 57.71 | L28: =L15 -> 6674400 | N28: 2 | O28: =I28*N28*500 -> 53530 | S28: =I28*1000 -> 53530 | T28: =T15 -> INNER | V28: =SUM(O28:S28) -> 107060 | W28: =L28-M28+V28 -> 6781460 | X28: =W28*6% -> 406887.6 | Y28: =W28*2.5% -> 169536.5 | Z28: =W28*12% -> 813775.2 | AA28: =W28+X28+Y28+Z28 -> 8171659.3 | AB28: =AA28/K28 -> 141598.67 | AC28: 0.25 | AD28: =AA28*AC28 -> 2042914.8 | AE28: 50000 | AF28: =(AD28-AE28)/(AG28) -> 46346.856 | AG28: 43 | AH28: =AA28-AD28 -> 6128744.5 | AI28: =SUM(AL28:CK28) -> 0 | AJ28: =AI28-AA28 -> -8171659.3 | EV28: =W28/K28 -> 117509.27
A29: 3 | B29: 27 | C29: Unsold | D29: 6th | E29: 7th | F29: A | G29: 7A | H29: 2-BR | I29: ='[18]Collection Unsold 10.15.21'!G30 -> 98.5 | J29: ='[18]Collection Unsold 10.15.21'!H30 -> 10.46 | K29: =I29+J29 -> 108.96 | L29: =L3 -> 12447600 | N29: 3 | O29: =I29*N29*500 -> 147750 | R29: =I29*1000 -> 98500 | S29: =I29*1000 -> 98500 | T29: =T3 -> CORNER | V29: =SUM(O29:S29) -> 344750 | W29: =L29-M29+V29 -> 12792350 | X29: =W29*6% -> 767541 | Y29: =W29*2.5% -> 319808.75 | Z29: =W29*12% -> 1535082 | AA29: =W29+X29+Y29+Z29 -> 15414782 | AB29: =AA29/K29 -> 141471.93 | AC29: 0.25 | AD29: =AA29*AC29 -> 3853695.4 | AE29: ='[19]Package Breakdown'!F27 -> 50000 | AF29: =(AD29-AE29)/(AG29) -> 88458.033 | AG29: 43 | AH29: =AA29-AD29 -> 11561086 | AI29: =SUM(AL29:CK29) -> 0 | AJ29: =AI29-AA29 -> -15414782 | EV29: =W29/K29 -> 117404.09
B30: 28 | C30: Unsold | D30: 6th | E30: 7th | F30: B | G30: 7B | H30: 1-BR | I30: ='[18]Collection Unsold 10.15.21'!G31 -> 51.02 | J30: ='[18]Collection Unsold 10.15.21'!H31 -> 5.36 | K30: =I30+J30 -> 56.38 | L30: =L4 -> 6444000 | N30: =$N$29 -> 3 | O30: =I30*N30*500 -> 76530 | S30: =I30*1000 -> 51020 | T30: =T4 -> INNER | V30: =SUM(O30:S30) -> 127550 | W30: =L30-M30+V30 -> 6571550 | X30: =W30*6% -> 394293 | Y30: =W30*2.5% -> 164288.75 | Z30: =W30*12% -> 788586 | AA30: =W30+X30+Y30+Z30 -> 7918717.8 | AB30: =AA30/K30 -> 140452.6 | AC30: 0.25 | AD30: =AA30*AC30 -> 1979679.4 | AE30: =AE29 -> 50000 | AF30: =(AD30-AE30)/(AG30) -> 44876.266 | AG30: 43 | AH30: =AA30-AD30 -> 5939038.3 | AI30: =SUM(AL30:CK30) -> 0 | AJ30: =AI30-AA30 -> -7918717.8 | EV30: =W30/K30 -> 116558.18
B31: 29 | C31: Unsold | D31: 6th | E31: 7th | F31: C | G31: 7C | H31: 2-BR | I31: ='[18]Collection Unsold 10.15.21'!G32 -> 55.62 | J31: ='[18]Collection Unsold 10.15.21'!H32 -> 5.37 | K31: =I31+J31 -> 60.99 | L31: =L5 -> 6996600 | N31: =$N$29 -> 3 | O31: =I31*N31*500 -> 83430 | S31: =I31*1000 -> 55620 | T31: =T5 -> INNER | V31: =SUM(O31:S31) -> 139050 | W31: =L31-M31+V31 -> 7135650 | X31: =W31*6% -> 428139 | Y31: =W31*2.5% -> 178391.25 | Z31: =W31*12% -> 856278 | AA31: =W31+X31+Y31+Z31 -> 8598458.2 | AB31: =AA31/K31 -> 140981.44 | AC31: 0.25 | AD31: =AA31*AC31 -> 2149614.6 | AE31: =AE30 -> 50000 | AF31: =(AD31-AE31)/(AG31) -> 48828.246 | AG31: 43 | AH31: =AA31-AD31 -> 6448843.7 | AI31: =SUM(AL31:CK31) -> 0 | AJ31: =AI31-AA31 -> -8598458.2 | EV31: =W31/K31 -> 116997.05
B32: 30 | C32: Unsold | D32: 6th | E32: 7th | F32: D | G32: 7D | H32: 2-BR | I32: ='[18]Collection Unsold 10.15.21'!G33 -> 60.78 | J32: ='[18]Collection Unsold 10.15.21'!H33 -> 5.15 | K32: =I32+J32 -> 65.93 | L32: =L6 -> 7602600 | N32: =$N$29 -> 3 | O32: =I32*N32*500 -> 91170 | S32: =I32*1000 -> 60780 | T32: =T6 -> INNER | V32: =SUM(O32:S32) -> 151950 | W32: =L32-M32+V32 -> 7754550 | X32: =W32*6% -> 465273 | Y32: =W32*2.5% -> 193863.75 | Z32: =W32*12% -> 930546 | AA32: =W32+X32+Y32+Z32 -> 9344232.8 | AB32: =AA32/K32 -> 141729.6 | AC32: 0.25 | AD32: =AA32*AC32 -> 2336058.2 | AE32: =AE31 -> 50000 | AF32: =(AD32-AE32)/(AG32) -> 53164.144 | AG32: 43 | AH32: =AA32-AD32 -> 7008174.6 | AI32: =SUM(AL32:CK32) -> 0 | AJ32: =AI32-AA32 -> -9344232.8 | EV32: =W32/K32 -> 117617.93
B33: 31 | C33: Unsold | D33: 6th | E33: 7th | F33: E | G33: 7E | H33: 2-BR | I33: ='[18]Collection Unsold 10.15.21'!G34 -> 83.49 | J33: ='[18]Collection Unsold 10.15.21'!H34 -> 12.31 | K33: =I33+J33 -> 95.8 | L33: =L7 -> 10757400 | N33: =$N$29 -> 3 | O33: =I33*N33*500 -> 125235 | R33: =I33*1000 -> 83490 | S33: =I33*1000 -> 83490 | T33: =T7 -> CORNER | V33: =SUM(O33:S33) -> 292215 | W33: =L33-M33+V33 -> 11049615 | X33: =W33*6% -> 662976.9 | Y33: =W33*2.5% -> 276240.38 | Z33: =W33*12% -> 1325953.8 | AA33: =W33+X33+Y33+Z33 -> 13314786 | AB33: =AA33/K33 -> 138985.24 | AC33: 0.25 | AD33: =AA33*AC33 -> 3328696.5 | AE33: =AE32 -> 50000 | AF33: =(AD33-AE33)/(AG33) -> 76248.756 | AG33: 43 | AH33: =AA33-AD33 -> 9986089.6 | AI33: =SUM(AL33:CK33) -> 0 | AJ33: =AI33-AA33 -> -13314786 | EV33: =W33/K33 -> 115340.45
B34: 32 | C34: Unsold | D34: 6th | E34: 7th | F34: F | G34: 7F | H34: 2-BR | I34: ='[18]Collection Unsold 10.15.21'!G35 -> 61.03 | J34: ='[18]Collection Unsold 10.15.21'!H35 -> 4.19 | K34: =I34+J34 -> 65.22 | L34: =L8 -> 7575000 | N34: =$N$29 -> 3 | O34: =I34*N34*500 -> 91545 | T34: =T8 -> INNER | V34: =SUM(O34:S34) -> 91545 | W34: =L34-M34+V34 -> 7666545 | X34: =W34*6% -> 459992.7 | Y34: =W34*2.5% -> 191663.62 | Z34: =W34*12% -> 919985.4 | AA34: =W34+X34+Y34+Z34 -> 9238186.7 | AB34: =AA34/K34 -> 141646.53 | AC34: 0.25 | AD34: =AA34*AC34 -> 2309546.7 | AE34: =AE33 -> 50000 | AF34: =(AD34-AE34)/(AG34) -> 52547.597 | AG34: 43 | AH34: =AA34-AD34 -> 6928640 | AI34: =SUM(AL34:CK34) -> 0 | AJ34: =AI34-AA34 -> -9238186.7 | EV34: =W34/K34 -> 117548.99
B35: 33 | C35: Unsold | D35: 6th | E35: 7th | F35: G | G35: 7G | H35: 2-BR | I35: ='[18]Collection Unsold 10.15.21'!G36 -> 94.79 | J35: ='[18]Collection Unsold 10.15.21'!H36 -> 11.26 | K35: =I35+J35 -> 106.05 | L35: =L9 -> 12050400 | N35: =$N$29 -> 3 | O35: =I35*N35*500 -> 142185 | R35: =I35*1000 -> 94790 | T35: =T9 -> CORNER | V35: =SUM(O35:S35) -> 236975 | W35: =L35-M35+V35 -> 12287375 | X35: =W35*6% -> 737242.5 | Y35: =W35*2.5% -> 307184.38 | Z35: =W35*12% -> 1474485 | AA35: =W35+X35+Y35+Z35 -> 14806287 | AB35: =AA35/K35 -> 139616.1 | AC35: 0.25 | AD35: =AA35*AC35 -> 3701571.7 | AE35: =AE34 -> 50000 | AF35: =(AD35-AE35)/(AG35) -> 84920.273 | AG35: 43 | AH35: =AA35-AD35 -> 11104715 | AI35: =SUM(AL35:CK35) -> 0 | AJ35: =AI35-AA35 -> -14806287 | EV35: =W35/K35 -> 115863.98
B36: 34 | C36: Unsold | D36: 6th | E36: 7th | F36: H | G36: 7H | H36: 2-BR | I36: ='[18]Collection Unsold 10.15.21'!G37 -> 67.79 | J36: ='[18]Collection Unsold 10.15.21'!H37 -> 4.2 | K36: =I36+J36 -> 71.99 | L36: =L10 -> 8386800 | N36: 3 | O36: =I36*N36*500 -> 101685 | T36: =T10 -> INNER | V36: =SUM(O36:S36) -> 101685 | W36: =L36-M36+V36 -> 8488485 | X36: =W36*6% -> 509309.1 | Y36: =W36*2.5% -> 212212.12 | Z36: =W36*12% -> 1018618.2 | AA36: =W36+X36+Y36+Z36 -> 10228624 | AB36: =AA36/K36 -> 142083.96 | AC36: 0.25 | AD36: =AA36*AC36 -> 2557156.1 | AE36: =AE35 -> 50000 | AF36: =(AD36-AE36)/(AG36) -> 58305.956 | AG36: 43 | AH36: =AA36-AD36 -> 7671468.3 | AI36: =SUM(AL36:CK36) -> 0 | AJ36: =AI36-AA36 -> -10228624 | EV36: =W36/K36 -> 117912
B37: 35 | C37: Unsold | D37: 6th | E37: 7th | F37: I | G37: 7I | H37: 2-BR | I37: ='[18]Collection Unsold 10.15.21'!G38 -> 67.72 | J37: ='[18]Collection Unsold 10.15.21'!H38 -> 4.2 | K37: =I37+J37 -> 71.92 | L37: =L11 -> 8378400 | N37: =$N$29 -> 3 | O37: =I37*N37*500 -> 101580 | T37: =T11 -> INNER | V37: =SUM(O37:S37) -> 101580 | W37: =L37-M37+V37 -> 8479980 | X37: =W37*6% -> 508798.8 | Y37: =W37*2.5% -> 211999.5 | Z37: =W37*12% -> 1017597.6 | AA37: =W37+X37+Y37+Z37 -> 10218376 | AB37: =AA37/K37 -> 142079.75 | AC37: 0.25 | AD37: =AA37*AC37 -> 2554594 | AE37: =AE35 -> 50000 | AF37: =(AD37-AE37)/(AG37) -> 58246.372 | AG37: 43 | AH37: =AA37-AD37 -> 7663781.9 | AI37: =SUM(AL37:CK37) -> 0 | AJ37: =AI37-AA37 -> -10218376 | EV37: =W37/K37 -> 117908.51
B38: 36 | C38: Unsold | D38: 6th | E38: 7th | F38: J | G38: 7J | H38: 2-BR | I38: ='[18]Collection Unsold 10.15.21'!G39 -> 67.72 | J38: ='[18]Collection Unsold 10.15.21'!H39 -> 4.2 | K38: =I38+J38 -> 71.92 | L38: =L12 -> 8378400 | N38: =$N$29 -> 3 | O38: =I38*N38*500 -> 101580 | T38: =T12 -> INNER | V38: =SUM(O38:S38) -> 101580 | W38: =L38-M38+V38 -> 8479980 | X38: =W38*6% -> 508798.8 | Y38: =W38*2.5% -> 211999.5 | Z38: =W38*12% -> 1017597.6 | AA38: =W38+X38+Y38+Z38 -> 10218376 | AB38: =AA38/K38 -> 142079.75 | AC38: 0.25 | AD38: =AA38*AC38 -> 2554594 | AE38: =AE36 -> 50000 | AF38: =(AD38-AE38)/(AG38) -> 58246.372 | AG38: 43 | AH38: =AA38-AD38 -> 7663781.9 | AI38: =SUM(AL38:CK38) -> 0 | AJ38: =AI38-AA38 -> -10218376 | EV38: =W38/K38 -> 117908.51
B39: 37 | C39: Unsold | D39: 6th | E39: 7th | F39: K | G39: 7K | H39: 2-BR | I39: ='[18]Collection Unsold 10.15.21'!G40 -> 67.72 | J39: ='[18]Collection Unsold 10.15.21'!H40 -> 4.2 | K39: =I39+J39 -> 71.92 | L39: =L13 -> 8378400 | N39: =$N$29 -> 3 | O39: =I39*N39*500 -> 101580 | T39: =T13 -> INNER | V39: =SUM(O39:S39) -> 101580 | W39: =L39-M39+V39 -> 8479980 | X39: =W39*6% -> 508798.8 | Y39: =W39*2.5% -> 211999.5 | Z39: =W39*12% -> 1017597.6 | AA39: =W39+X39+Y39+Z39 -> 10218376 | AB39: =AA39/K39 -> 142079.75 | AC39: 0.25 | AD39: =AA39*AC39 -> 2554594 | AE39: =AE37 -> 50000 | AF39: =(AD39-AE39)/(AG39) -> 58246.372 | AG39: 43 | AH39: =AA39-AD39 -> 7663781.9 | AI39: =SUM(AL39:CK39) -> 0 | AJ39: =AI39-AA39 -> -10218376 | EV39: =W39/K39 -> 117908.51
B40: 38 | C40: Unsold | D40: 6th | E40: 7th | F40: L | G40: 7L | H40: 2-BR | I40: ='[18]Collection Unsold 10.15.21'!G41 -> 86.15 | J40: ='[18]Collection Unsold 10.15.21'!H41 -> 12.66 | K40: =I40+J40 -> 98.81 | L40: =L14 -> 11097600 | N40: =$N$29 -> 3 | O40: =I40*N40*500 -> 129225 | R40: =I40*1000 -> 86150 | S40: =I40*1000 -> 86150 | T40: =T14 -> CORNER | V40: =SUM(O40:S40) -> 301525 | W40: =L40-M40+V40 -> 11399125 | X40: =W40*6% -> 683947.5 | Y40: =W40*2.5% -> 284978.12 | Z40: =W40*12% -> 1367895 | AA40: =W40+X40+Y40+Z40 -> 13735946 | AB40: =AA40/K40 -> 139013.72 | AC40: 0.25 | AD40: =AA40*AC40 -> 3433986.4 | AE40: =AE38 -> 50000 | AF40: =(AD40-AE40)/(AG40) -> 78697.358 | AG40: 43 | AH40: =AA40-AD40 -> 10301959 | AI40: =SUM(AL40:CK40) -> 0 | AJ40: =AI40-AA40 -> -13735946 | EV40: =W40/K40 -> 115364.08
...

Sheet Priority Selling List
B1: Assumptions:
C2: Category | F2: New Scheme | I2: Old Scheme | L2: No. of Units | M2: Price per sqm
F3: With Discount | G3: Allotted/Sold | H3: Typical 70 sqm unit TCP | L3: 25 | M3: 120000
B4: PS1 | C4: Family, Executives, Employees | D4: P120k/sqm + 15% Disc | E4: =120000*0.95 -> 114000 | F4: 7 | G4: =G15+G17+G21+G24 -> 5 | H4: ='[20]PS Group Package Breakdown'!C23 -> 9702660 | I4: 15 | L4: 25 | M4: =M3*1.025 -> 123000
B5: PS1.5 | C5: Family, Executives, Employees | D5: P120k/sqm + 10% Disc | E5: 120000 | F5: 4 | G5: 7 | H5: ='[20]PS Group Package Breakdown'!C75 -> 9702660 | I5: 10 | L5: 25 | M5: =M4*1.025 -> 126075
B6: PS2 | C6: Suppliers and Friends | D6: P120k/sqm + 10% Disc | E6: 120000 | F6: 5 | G6: 10 | H6: ='[20]PS Group Package Breakdown'!C127 -> 9935466 | I6: 15 | L6: 25 | M6: =M5*1.025 -> 129226.87
B7: PS3 | C7: Past Clients for B1 and B2 | D7: P126k/sqm + 8% Disc | E7: =126000*0.96 -> 120960 | F7: 5 | G7: =G42 -> 4 | H7: ='[20]PS Group Package Breakdown'!C179 -> 10174092 | I7: 15 | L7: 26 | M7: =M6*1.025 -> 132457.55
B8: PS4 | C8: Prestige Circle | D8: P129k/sqm + 6% Disc | E8: =129000*0.94 -> 121260 | F8: 10 | G8: =G41 -> 8 | H8: ='[20]PS Group Package Breakdown'!C231 -> 10418684 | I8: 15
C9: Public Selling | D9: P132k/sqm | G9: =G43 -> 2 | H9: ='[20]PS Group Package Breakdown'!C283 -> 10669391 | I9: 56 | K9: PS1,1.5,2 | L9: 22 | M9: 120000
B10: TOTAL | E10: =AVERAGE(E4:E8) -> 119244 | F10: =SUM(F4:F8) -> 31 | G10: =SUM(G4:G9) -> 36 | I10: =SUM(I4:I9) -> 126 | L10: 4 | M10: 120960
B11: TOTAL DISCOUNTS | G11: ='[20]Collection Unsold 07.21.2021'!K130 -> 33869713 | I11: ='[21]Collection Unsold 07.21.2021'!$K$129 -> 60128396 | L11: 10 | M11: 121260
M12: =M7-M6 -> 3230.6719
L13: 25 | M13: =132000*95% -> 125400 | N13: 132000
D14: Category | F14: Price Per Sqm | G14: No. of Units | L14: 25 | M14: =M13*1.025 -> 128535 | N14: =M14/0.95 -> 135300
B15: 1 | C15: Roger* | D15: PS1 | F15: =$D$4 -> P120k/sqm + 15% Disc | G15: 1 | H15: =SUM(G15:G29) -> 13 | L15: 20 | M15: =M14*1.025 -> 131748.37 | N15: =M15/0.95 -> 138682.5
B16: 2 | C16: Edward* | D16: PS1 | L16: 20 | M16: =M15*1.025 -> 135042.08 | N16: =M16/0.95 -> 142149.56
B17: 3 | C17: Kerwin | D17: PS1 | F17: =$D$4 -> P120k/sqm + 15% Disc | G17: 1
B18: 4 | C18: Ryan | D18: PS1
B19: 5 | C19: Sharon | D19: PS1
B20: 6 | C20: Mark Labrador | D20: PS1
B21: 7 | C21: Anthony Go (2 units*) | D21: PS1 | F21: =$D$4 -> P120k/sqm + 15% Disc | G21: 2
B22: 8 | C22: Ray Roxas-Chua* | D22: PS1
B23: 9 | C23: Tere* | D23: PS1
B24: 10 | C24: Glenn | D24: PS1 | F24: =$D$4 -> P120k/sqm + 15% Disc | G24: 1
B25: 11 | C25: Sean* | D25: PS1
B26: 12 | C26: Carson's Dad (2 Units) | D26: PS2 | F26: P123k/sqm + 10% Disc | G26: 2
B27: 13 | C27: Carson's Sister (2 Units - 70sqm) | D27: PS2 | F27: P123k/sqm + 10% Disc | G27: 2
B28: 14 | C28: Carson's Sister (2 Units - 70sqm) | D28: PS2 | F28: P123k/sqm + 10% Disc | G28: 2
B29: 15 | C29: Isaac | D29: PS2 | F29: P123k/sqm + 10% Disc | G29: 2
B30: 16 | C30: Sherwin | D30: PS1.5 | F30: =$D$5 -> P120k/sqm + 10% Disc | G30: 1 | H30: =SUM(G30:G31,G33,G36,G41) -> 12
B31: 17 | C31: Kirst | D31: PS1.5 | F31: =$D$5 -> P120k/sqm + 10% Disc | G31: 1
B32: 18 | C32: Bry's Sister | D32: PS2 | F32: =D6 -> P120k/sqm + 10% Disc | G32: 1
B33: 19 | C33: Coy | D33: PS1.5 | F33: =$D$5 -> P120k/sqm + 10% Disc | G33: 1
B34: 20 | C34: Atty Abalos | D34: PS 1.5
B35: 21 | C35: Aiana | D35: PS 1.5
B36: 22 | C36: Carla | D36: PS 1.5 | G36: 1
B37: 23 | C37: Kat | D37: PS 1.5 | F37: =$D$5 -> P120k/sqm + 10% Disc | G37: 1
B38: 22 | C38: Tommy | D38: PS 2 | F38: P123k/sqm + 10% Disc | G38: 1
G39: =SUM(G15:G38) -> 20
C41: Prestige Sales | F41: =D8 -> P129k/sqm + 6% Disc | G41: 8
...

Sheet Internal Pricelist
M1: C1 | P1: 160000 | S1: Inroductory | BU1: TOTAL INCREASED | BZ1: TO 1 | CA1: 10.01.2025
M2: C A-F | P2: 160000 | S2: COMMERCIAL | BU2: =AF5+AH5+AJ5+AL5+AN5+AP5+AR5+AT5+AU5+AX5+AY5+BB5+BC5+BF5+BG5+BJ5+BK5 -> 0.5335 | BZ2: TO 2 | CA2: 11.01.2025
A3: SOLD | B3: =COUNTIF(C14:C150,"SOLD") -> 112 | M3: Mezzanine | P3: 135000 | Q3: 100000 | S3: 160000 | AE3: PR1 | AG3: PR1 - 1 | AI3: PR1 - 2 | AK3: PR1 - 3 | AM3: PR2 | AN3: 10 units | AO3: PR3 | AP3: 10 units | AQ3: PR4 | AR3: 8 units | AS3: PR5 | AT3: 5 units | AU3: 5 units | AW3: PR6 | AX3: 5 units | AY3: 5 units | BA3: PR7 | BB3: 5 units | BC3: 5 units | BE3: PR8 | BF3: 5 units | BG3: 5 units | BI3: PR9 | BJ3: 2 units | BK3: 2 units | BM3: PR10 | BZ3: TO 3 | CA3: 03.01.2026
A4: UNSOLD | B4: =A150-B3 -> 25 | S4: RESIDENTIAL | AF4: =132000*1.0308 -> 136065.6 | AG4: 44571 | AH4: =AF4*1.0227 -> 139154.29 | AI4: 44641 | AJ4: =AH4*1.025 -> 142633.15 | AK4: 44706 | AL4: =AJ4*1.025 -> 146198.98 | AM4: 44774 | AN4: =AL4*1.025 -> 149853.95 | AO4: 44817 | AP4: =AN4*1.025 -> 153600.3 | AQ4: 44872 | AR4: =AP4*1.025 -> 157440.31 | AT4: =AQ4*1.025 -> 45993.8 | AU4: =AR4*1.025 -> 161376.31 | AX4: =AT4*1.025 -> 47143.645 | AY4: =AU4*1.025 -> 165410.72 | BB4: =AX4*1.025 -> 48322.236 | BC4: =AY4*1.025 -> 169545.99 | BF4: =BB4*1.025 -> 49530.292 | BG4: =BC4*1.025 -> 173784.64 | BJ4: =BF4*1.025 -> 50768.549 | BK4: =BG4*1.025 -> 178129.25
Q5: 132000 | R5: 66000 | S5: 132000 | V5: 500 | W5: 2000 | X5: 0.005 | Y5: 2000 | Z5: 1000 | AF5: 0.0308 | AH5: 0.0227 | AJ5: 0.025 | AL5: 0.025 | AN5: 0.025 | AP5: 0.025 | AR5: 0.03 | AT5: 0.03 | AU5: 0.04 | AV5: DIFFERENCE | AX5: 0.03 | AY5: 0.04 | BB5: 0.03 | BC5: 0.04 | BF5: 0.03 | BG5: 0.04 | BJ5: 0.03 | BK5: 0.04 | BN5: 0.075 | BO5: 0.025 | BP5: 0.12 | CA5: 45870
A6: Inventory Count | B6: Per Floor | C6: Sale Status | D6: EXEC | E6: Actual Floor | F6: Building Floor | G6: Unit | H6: Unit Code | I6: Unit Type | J6: Floor Area | K6: Balcony | L6: Mezzanine | M6: Total Area | N6: Floor Area | O6: Mezzanine | P6: Commercial | Q6: Residential | R6: Balcony | S6: Total Selling Price | T6: Discount | U6: Floor Nominal | V6: Floor Additive | W6: Special Additive 8th Floor | X6: Recovery Additive | Y6: Corner | Z6: Facing East | AA6: Configuration | AB6: Classification | AC6: Total Additives | AE6: Net Selling Price | AF6: 1ST INCREASE 3.08% | AG6: NEW SELLIG PRICE | AH6: 2ND INCREASE 2.7% | AI6: NEW SELLING PRICE | AJ6: 3RD INCREASE | AK6: New Selling Price | AL6: 4TH INCREASE | AM6: New Selling Price | AN6: 5TH INCREASE | AO6: New Selling Price | AP6: 6TH INCREASE | AQ6: New Selling Price | AR6: 7TH INCREASE | AS6: New Selling Price | AT6: 8TH INCREASE | AU6: 8TH INCREASE | AW6: New Selling Price | AX6: 9TH INCREASE | AY6: 9TH INCREASE | BA6: New Selling Price | BB6: 10TH INCREASE | BC6: 10TH INCREASE | BE6: New Selling Price | BF6: 11TH INCREASE | BG6: 11TH INCREASE | BI6: New Selling Price | BJ6: 12TH INCREASE | BK6: 12TH INCREASE | BM6: New Selling Price | BN6: LMF | BO6: BF | BP6: VAT | BQ6: TCP | BR6: Price per sqm | BS6: DP% | BT6: Equity | BU6: RF | BV6: Monthly Equity | BW6: Equity Term | BX6: Loanable Amount | BZ6: TURNED OVER DATE | CA6: EQUITY TERM | CB6: For Brooky
A7: 1 | B7: 1 | C7: Unsold | E7: G | F7: GF | G7: 1 | H7: C1 | I7: Comm. | J7: 85.62 | M7: =J7+K7 -> 85.62 | P7: =J7*P$1 -> 13699200 | S7: =SUM(P7:R7) -> 13699200 | AA7: INNER | AE7: =S7+AC7 -> 13699200 | AG7: =AE7+AF7 -> 13699200 | AI7: =AG7+AH7 -> 13699200 | AJ7: =AI7*$AJ$5 -> 342480 | AK7: =AI7+AJ7 -> 14041680 | AL7: =AK7*$AJ$5 -> 351042 | AM7: =AK7+AL7 -> 14392722 | AN7: =AM7*$AJ$5 -> 359818.05 | AO7: =AM7+AN7 -> 14752540 | AP7: =AO7*$AP$5 -> 368813.5 | AQ7: =AO7+AP7 -> 15121354 | AR7: =AQ7*$AR$5 -> 453640.61 | AS7: =AQ7+AR7 -> 15574994 | AT7: =AS7*$AT$5 -> 467249.82 | AU7: =AS7*$AU$5 -> 622999.77 | AW7: =AS7+AU7 -> 16197994 | AX7: =AW7*$AX$5 -> 485939.82 | AY7: =AW7*$AY$5 -> 647919.76 | BA7: =AW7+AY7 -> 16845914 | BB7: =BA7*$BB$5 -> 505377.41 | BC7: =BA7*$BC$5 -> 673836.55 | BE7: =BA7+BC7 -> 17519750 | BF7: =BE7*$BF$5 -> 525592.51 | BG7: =BE7*$BC$5 -> 700790.01 | BI7: =BE7+BG7 -> 18220540 | BJ7: =BI7*$BJ$5 -> 546616.21 | BK7: =BI7*$BC$5 -> 728821.61 | BM7: =BI7+BK7 -> 18949362 | BN7: =BM7*$BN$5 -> 1421202.1 | BO7: =BM7*$BO$5 -> 473734.05 | BP7: =BM7*$BP$5 -> 2273923.4 | BQ7: =BM7+BN7+BO7+BP7 -> 23118221 | BR7: =BQ7/M7 -> 270009.59 | BS7: 0.4 | BT7: =BQ7*BS7 -> 9247288.6 | BU7: 200000 | BV7: =(BT7-BU7)/(BW7) -> 1292469.8 | BW7: =CA7 -> 7 | BX7: =BQ7-BT7 -> 13870933 | BZ7: 46082 | CA7: =(YEAR(BZ7)-YEAR($CA$5))*12+MONTH(BZ7)-MONTH($CA$5) -> 7 | CB7: =CA7+1 -> 8
A8: =A7+1 -> 2 | B8: =B7+1 -> 2 | C8: Sold | E8: G | F8: GF | G8: A | H8: COMM A | I8: Comm. | J8: 44.23 | M8: =J8 -> 44.23 | P8: =J8*P$1 -> 7076800 | S8: =SUM(P8:R8) -> 7076800 | AA8: CORNER | AE8: =S8+AC8 -> 7076800 | AG8: =AE8+AF8 -> 7076800 | AI8: =AG8+AH8 -> 7076800 | AJ8: =AI8*$AJ$5 -> 176920 | AK8: =AI8+AJ8 -> 7253720 | AL8: =AK8*$AJ$5 -> 181343 | AM8: =AK8+AL8 -> 7435063 | AN8: =AM8*$AJ$5 -> 185876.57 | AO8: =AM8+AN8 -> 7620939.6 | AP8: =AO8*$AP$5 -> 190523.49 | AQ8: =AO8+AP8 -> 7811463.1 | AR8: =AQ8*$AR$5 -> 234343.89 | AS8: =AQ8+AR8 -> 8045807 | AT8: =AS8*$AT$5 -> 241374.21 | AU8: =AS8*$AU$5 -> 321832.28 | AW8: =AS8+AU8 -> 8367639.2 | AX8: =AW8*$AX$5 -> 251029.18 | AY8: =AW8*$AY$5 -> 334705.57 | BA8: =AW8+AY8 -> 8702344.8 | BB8: =BA8*$BB$5 -> 261070.34 | BC8: =BA8*$BC$5 -> 348093.79 | BE8: =BA8+BC8 -> 9050438.6 | BF8: =BE8*$BF$5 -> 271513.16 | BG8: =BE8*$BC$5 -> 362017.54 | BI8: =BE8+BG8 -> 9412456.1 | BJ8: =BI8*$BJ$5 -> 282373.68 | BK8: =BI8*$BC$5 -> 376498.25 | BM8: =BI8+BK8 -> 9788954.4 | BN8: =BM8*$BN$5 -> 734171.58 | BO8: =BM8*$BO$5 -> 244723.86 | BP8: =BM8*$BP$5 -> 1174674.5 | BQ8: =BM8+BN8+BO8+BP8 -> 11942524 | BR8: =BQ8/M8 -> 270009.59 | BS8: 0.4 | BT8: =BQ8*BS8 -> 4777009.7 | BU8: 200000 | BV8: =(BT8-BU8)/(BW8) -> 653858.53 | BW8: =CA8 -> 7 | BX8: =BQ8-BT8 -> 7165514.6 | BZ8: 46082 | CA8: =(YEAR(BZ8)-YEAR($CA$5))*12+MONTH(BZ8)-MONTH($CA$5) -> 7 | CB8: =CA8+1 -> 8
A9: =A8+1 -> 3 | B9: =B8+1 -> 3 | C9: Sold | E9: G | F9: GF | G9: B | H9: COMM B | I9: Comm. | J9: 47.78 | M9: =J9 -> 47.78 | P9: =J9*P$1 -> 7644800 | S9: =SUM(P9:R9) -> 7644800 | AA9: INNER | AE9: =S9+AC9 -> 7644800 | AG9: =AE9+AF9 -> 7644800 | AI9: =AG9+AH9 -> 7644800 | AJ9: =AI9*$AJ$5 -> 191120 | AK9: =AI9+AJ9 -> 7835920 | AL9: =AK9*$AJ$5 -> 195898 | AM9: =AK9+AL9 -> 8031818 | AN9: =AM9*$AJ$5 -> 200795.45 | AO9: =AM9+AN9 -> 8232613.5 | AP9: =AO9*$AP$5 -> 205815.34 | AQ9: =AO9+AP9 -> 8438428.8 | AR9: =AQ9*$AR$5 -> 253152.86 | AS9: =AQ9+AR9 -> 8691581.6 | AT9: =AS9*$AT$5 -> 260747.45 | AU9: =AS9*$AU$5 -> 347663.27 | AW9: =AS9+AU9 -> 9039244.9 | AX9: =AW9*$AX$5 -> 271177.35 | AY9: =AW9*$AY$5 -> 361569.8 | BA9: =AW9+AY9 -> 9400814.7 | BB9: =BA9*$BB$5 -> 282024.44 | BC9: =BA9*$BC$5 -> 376032.59 | BE9: =BA9+BC9 -> 9776847.3 | BF9: =BE9*$BF$5 -> 293305.42 | BG9: =BE9*$BC$5 -> 391073.89 | BI9: =BE9+BG9 -> 10167921 | BJ9: =BI9*$BJ$5 -> 305037.64 | BK9: =BI9*$BC$5 -> 406716.85 | BM9: =BI9+BK9 -> 10574638 | BN9: =BM9*$BN$5 -> 793097.85 | BO9: =BM9*$BO$5 -> 264365.95 | BP9: =BM9*$BP$5 -> 1268956.6 | BQ9: =BM9+BN9+BO9+BP9 -> 12901058 | BR9: =BQ9/M9 -> 270009.59 | BS9: 0.4 | BT9: =BQ9*BS9 -> 5160423.4 | BU9: 200000 | BV9: =(BT9-BU9)/(BW9) -> 708631.91 | BW9: =CA9 -> 7 | BX9: =BQ9-BT9 -> 7740635 | BZ9: 46082 | CA9: =(YEAR(BZ9)-YEAR($CA$5))*12+MONTH(BZ9)-MONTH($CA$5) -> 7 | CB9: =CA9+1 -> 8
A10: =A9+1 -> 4 | B10: =B9+1 -> 4 | C10: Sold | E10: G | F10: GF | G10: C | H10: COMM C | I10: Comm. | J10: 53.99 | M10: =J10 -> 53.99 | P10: =J10*P$1 -> 8638400 | S10: =SUM(P10:R10) -> 8638400 | AA10: INNER | AE10: =S10+AC10 -> 8638400 | AG10: =AE10+AF10 -> 8638400 | AI10: =AG10+AH10 -> 8638400 | AJ10: =AI10*$AJ$5 -> 215960 | AK10: =AI10+AJ10 -> 8854360 | AL10: =AK10*$AJ$5 -> 221359 | AM10: =AK10+AL10 -> 9075719 | AN10: =AM10*$AJ$5 -> 226892.98 | AO10: =AM10+AN10 -> 9302612 | AP10: =AO10*$AP$5 -> 232565.3 | AQ10: =AO10+AP10 -> 9535177.3 | AR10: =AQ10*$AR$5 -> 286055.32 | AS10: =AQ10+AR10 -> 9821232.6 | AT10: =AS10*$AT$5 -> 294636.98 | AU10: =AS10*$AU$5 -> 392849.3 | AW10: =AS10+AU10 -> 10214082 | AX10: =AW10*$AX$5 -> 306422.46 | AY10: =AW10*$AY$5 -> 408563.28 | BA10: =AW10+AY10 -> 10622645 | BB10: =BA10*$BB$5 -> 318679.36 | BC10: =BA10*$BC$5 -> 424905.81 | BE10: =BA10+BC10 -> 11047551 | BF10: =BE10*$BF$5 -> 331426.53 | BG10: =BE10*$BC$5 -> 441902.04 | BI10: =BE10+BG10 -> 11489453 | BJ10: =BI10*$BJ$5 -> 344683.59 | BK10: =BI10*$BC$5 -> 459578.12 | BM10: =BI10+BK10 -> 11949031 | BN10: =BM10*$BN$5 -> 896177.34 | BO10: =BM10*$BO$5 -> 298725.78 | BP10: =BM10*$BP$5 -> 1433883.7 | BQ10: =BM10+BN10+BO10+BP10 -> 14577818 | BR10: =BQ10/M10 -> 270009.59 | BS10: 0.4 | BT10: =BQ10*BS10 -> 5831127.2 | BU10: 200000 | BV10: =(BT10-BU10)/(BW10) -> 804446.74 | BW10: =CA10 -> 7 | BX10: =BQ10-BT10 -> 8746690.8 | BZ10: 46082 | CA10: =(YEAR(BZ10)-YEAR($CA$5))*12+MONTH(BZ10)-MONTH($CA$5) -> 7 | CB10: =CA10+1 -> 8
A11: =A10+1 -> 5 | B11: =B10+1 -> 5 | C11: Sold | E11: G | F11: GF | G11: D | H11: COMM D | I11: Comm. | J11: 58.67 | M11: =J11 -> 58.67 | P11: =J11*P$1 -> 9387200 | S11: =SUM(P11:R11) -> 9387200 | AA11: INNER | AE11: =S11+AC11 -> 9387200 | AG11: =AE11+AF11 -> 9387200 | AI11: =AG11+AH11 -> 9387200 | AJ11: =AI11*$AJ$5 -> 234680 | AK11: =AI11+AJ11 -> 9621880 | AL11: =AK11*$AJ$5 -> 240547 | AM11: =AK11+AL11 -> 9862427 | AN11: =AM11*$AJ$5 -> 246560.68 | AO11: =AM11+AN11 -> 10108988 | AP11: =AO11*$AP$5 -> 252724.69 | AQ11: =AO11+AP11 -> 10361712 | AR11: =AQ11*$AR$5 -> 310851.37 | AS11: =AQ11+AR11 -> 10672564 | AT11: =AS11*$AT$5 -> 320176.91 | AU11: =AS11*$AU$5 -> 426902.55 | AW11: =AS11+AU11 -> 11099466 | AX11: =AW11*$AX$5 -> 332983.99 | AY11: =AW11*$AY$5 -> 443978.65 | BA11: =AW11+AY11 -> 11543445 | BB11: =BA11*$BB$5 -> 346303.35 | BC11: =BA11*$BC$5 -> 461737.8 | BE11: =BA11+BC11 -> 12005183 | BF11: =BE11*$BF$5 -> 360155.48 | BG11: =BE11*$BC$5 -> 480207.31 | BI11: =BE11+BG11 -> 12485390 | BJ11: =BI11*$BJ$5 -> 374561.7 | BK11: =BI11*$BC$5 -> 499415.6 | BM11: =BI11+BK11 -> 12984806 | BN11: =BM11*$BN$5 -> 973860.42 | BO11: =BM11*$BO$5 -> 324620.14 | BP11: =BM11*$BP$5 -> 1558176.7 | BQ11: =BM11+BN11+BO11+BP11 -> 15841463 | BR11: =BQ11/M11 -> 270009.59 | BS11: 0.4 | BT11: =BQ11*BS11 -> 6336585.2 | BU11: 200000 | BV11: =(BT11-BU11)/(BW11) -> 876655.02 | BW11: =CA11 -> 7 | BX11: =BQ11-BT11 -> 9504877.7 | BZ11: 46082 | CA11: =(YEAR(BZ11)-YEAR($CA$5))*12+MONTH(BZ11)-MONTH($CA$5) -> 7 | CB11: =CA11+1 -> 8
A12: =A11+1 -> 6 | B12: =B11+1 -> 6 | C12: Sold | E12: G | F12: GF | G12: E | H12: COMM E | I12: Comm. | J12: 63.33 | M12: =J12 -> 63.33 | P12: =J12*P$1 -> 10132800 | S12: =SUM(P12:R12) -> 10132800 | AA12: INNER | AE12: =S12+AC12 -> 10132800 | AG12: =AE12+AF12 -> 10132800 | AI12: =AG12+AH12 -> 10132800 | AJ12: =AI12*$AJ$5 -> 253320 | AK12: =AI12+AJ12 -> 10386120 | AL12: =AK12*$AJ$5 -> 259653 | AM12: =AK12+AL12 -> 10645773 | AN12: =AM12*$AJ$5 -> 266144.33 | AO12: =AM12+AN12 -> 10911917 | AP12: =AO12*$AP$5 -> 272797.93 | AQ12: =AO12+AP12 -> 11184715 | AR12: =AQ12*$AR$5 -> 335541.46 | AS12: =AQ12+AR12 -> 11520257 | AT12: =AS12*$AT$5 -> 345607.7 | AU12: =AS12*$AU$5 -> 460810.27 | AW12: =AS12+AU12 -> 11981067 | AX12: =AW12*$AX$5 -> 359432.01 | AY12: =AW12*$AY$5 -> 479242.68 | BA12: =AW12+AY12 -> 12460310 | BB12: =BA12*$BB$5 -> 373809.29 | BC12: =BA12*$BC$5 -> 498412.39 | BE12: =BA12+BC12 -> 12958722 | BF12: =BE12*$BF$5 -> 388761.66 | BG12: =BE12*$BC$5 -> 518348.88 | BI12: =BE12+BG12 -> 13477071 | BJ12: =BI12*$BJ$5 -> 404312.13 | BK12: =BI12*$BC$5 -> 539082.84 | BM12: =BI12+BK12 -> 14016154 | BN12: =BM12*$BN$5 -> 1051211.5 | BO12: =BM12*$BO$5 -> 350403.84 | BP12: =BM12*$BP$5 -> 1681938.5 | BQ12: =BM12+BN12+BO12+BP12 -> 17099708 | BR12: =BQ12/M12 -> 270009.59 | BS12: 0.4 | BT12: =BQ12*BS12 -> 6839883 | BU12: 200000 | BV12: =(BT12-BU12)/(BW12) -> 948554.72 | BW12: =CA12 -> 7 | BX12: =BQ12-BT12 -> 10259825 | BZ12: 46082 | CA12: =(YEAR(BZ12)-YEAR($CA$5))*12+MONTH(BZ12)-MONTH($CA$5) -> 7 | CB12: =CA12+1 -> 8
A13: =A12+1 -> 7 | B13: =B12+1 -> 7 | C13: Sold | E13: G | F13: GF | G13: F | H13: COMM F | I13: Comm. | J13: 86.33 | M13: =J13 -> 86.33 | P13: =J13*P$1 -> 13812800 | S13: =SUM(P13:R13) -> 13812800 | AA13: CORNER | AE13: =S13+AC13 -> 13812800 | AG13: =AE13+AF13 -> 13812800 | AI13: =AG13+AH13 -> 13812800 | AJ13: =AI13*$AJ$5 -> 345320 | AK13: =AI13+AJ13 -> 14158120 | AL13: =AK13*$AJ$5 -> 353953 | AM13: =AK13+AL13 -> 14512073 | AN13: =AM13*$AJ$5 -> 362801.83 | AO13: =AM13+AN13 -> 14874875 | AP13: =AO13*$AP$5 -> 371871.87 | AQ13: =AO13+AP13 -> 15246747 | AR13: =AQ13*$AR$5 -> 457402.4 | AS13: =AQ13+AR13 -> 15704149 | AT13: =AS13*$AT$5 -> 471124.47 | AU13: =AS13*$AU$5 -> 628165.96 | AW13: =AS13+AU13 -> 16332315 | AX13: =AW13*$AX$5 -> 489969.45 | AY13: =AW13*$AY$5 -> 653292.6 | BA13: =AW13+AY13 -> 16985608 | BB13: =BA13*$BB$5 -> 509568.23 | BC13: =BA13*$BC$5 -> 679424.31 | BE13: =BA13+BC13 -> 17665032 | BF13: =BE13*$BF$5 -> 529950.96 | BG13: =BE13*$BC$5 -> 706601.28 | BI13: =BE13+BG13 -> 18371633 | BJ13: =BI13*$BJ$5 -> 551149 | BK13: =BI13*$BC$5 -> 734865.33 | BM13: =BI13+BK13 -> 19106499 | BN13: =BM13*$BN$5 -> 1432987.4 | BO13: =BM13*$BO$5 -> 477662.46 | BP13: =BM13*$BP$5 -> 2292779.8 | BQ13: =BM13+BN13+BO13+BP13 -> 23309928 | BR13: =BQ13/M13 -> 270009.59 | BS13: 0.4 | BT13: =BQ13*BS13 -> 9323971.3 | BU13: 200000 | BV13: =(BT13-BU13)/(BW13) -> 1303424.5 | BW13: =CA13 -> 7 | BX13: =BQ13-BT13 -> 13985957 | BZ13: 46082 | CA13: =(YEAR(BZ13)-YEAR($CA$5))*12+MONTH(BZ13)-MONTH($CA$5) -> 7 | CB13: =CA13+1 -> 8
